BEGIN:VCALENDAR
VERSION:2.0
PRODID:-//Diversité A - ECPv6.6.3//NONSGML v1.0//EN
CALSCALE:GREGORIAN
METHOD:PUBLISH
X-WR-CALNAME:Diversité A
X-ORIGINAL-URL:https://ecolessecondaire.cssdm.gouv.qc.ca/diversitea
X-WR-CALDESC:évènements pour Diversité A
REFRESH-INTERVAL;VALUE=DURATION:PT1H
X-Robots-Tag:noindex
X-PUBLISHED-TTL:PT1H
BEGIN:VTIMEZONE
TZID:Europe/Paris
BEGIN:DAYLIGHT
TZOFFSETFROM:+0100
TZOFFSETTO:+0200
TZNAME:CEST
DTSTART:20200329T010000
END:DAYLIGHT
BEGIN:STANDARD
TZOFFSETFROM:+0200
TZOFFSETTO:+0100
TZNAME:CET
DTSTART:20201025T010000
END:STANDARD
BEGIN:DAYLIGHT
TZOFFSETFROM:+0100
TZOFFSETTO:+0200
TZNAME:CEST
DTSTART:20210328T010000
END:DAYLIGHT
BEGIN:STANDARD
TZOFFSETFROM:+0200
TZOFFSETTO:+0100
TZNAME:CET
DTSTART:20211031T010000
END:STANDARD
END:VTIMEZONE
BEGIN:VEVENT
DTSTART;TZID=Europe/Paris:20200701T080000
DTEND;TZID=Europe/Paris:20210630T170000
DTSTAMP:20260421T022039
CREATED:20210422T092610Z
LAST-MODIFIED:20210422T092900Z
UID:1623-1593590400-1625072400@ecolessecondaire.cssdm.gouv.qc.ca
SUMMARY:Calendrier scolaire
DESCRIPTION:CALENDRIER SCOLAIRE MODIFIÉ 2020 – 2021\npour les élèves et le personnel enseignant\nEn comodalité – version 2021-03-09 \nLien pour le calendrier :Eulalie-Calendrier_2021-03-09
URL:https://ecolessecondaire.cssdm.gouv.qc.ca/diversitea/evenement/calendrier-scolaire/
END:VEVENT
END:VCALENDAR